BEGIN:VCALENDAR
VERSION:2.0
PRODID:-//Flow Momentum Collective: Fueling Entrepreneurial Success with AI, Community, and Sports - ECPv6.3.7//NONSGML v1.0//EN
CALSCALE:GREGORIAN
METHOD:PUBLISH
X-ORIGINAL-URL:https://my.flow-momentum.com
X-WR-CALDESC:Events for Flow Momentum Collective: Fueling Entrepreneurial Success with AI, Community, and Sports
REFRESH-INTERVAL;VALUE=DURATION:PT1H
X-Robots-Tag:noindex
X-PUBLISHED-TTL:PT1H
BEGIN:VTIMEZONE
TZID:Europe/London
BEGIN:DAYLIGHT
TZOFFSETFROM:+0000
TZOFFSETTO:+0100
TZNAME:BST
DTSTART:20280326T010000
END:DAYLIGHT
BEGIN:STANDARD
TZOFFSETFROM:+0100
TZOFFSETTO:+0000
TZNAME:GMT
DTSTART:20281029T010000
END:STANDARD
TZID:Europe/Zurich
BEGIN:DAYLIGHT
TZOFFSETFROM:+0100
TZOFFSETTO:+0200
TZNAME:CEST
DTSTART:20280326T010000
END:DAYLIGHT
BEGIN:STANDARD
TZOFFSETFROM:+0200
TZOFFSETTO:+0100
TZNAME:CET
DTSTART:20281029T010000
END:STANDARD
END:VTIMEZONE
BEGIN:VEVENT
DTSTART;TZID=Europe/London:20281107T190000
DTEND;TZID=Europe/London:20281107T200000
DTSTAMP:20260424T100047
CREATED:20241017T222754Z
LAST-MODIFIED:20241017T222754Z
UID:10000213-1857236400-1857240000@my.flow-momentum.com
SUMMARY:Tuesday: 7:00 PM – Flow Builder: Team Progress Session
DESCRIPTION:This interactive\, hands-on session focuses on building momentum within the Flow Momentum Collective. Bring your specific goals\, challenges\, and projects to this live problem-solving space. Together\, we’ll use proven team methods like lean startup and continuous improvement principles to work through obstacles and maintain forward progress. This is an ideal opportunity to gain feedback and move closer to your goals.
URL:https://my.flow-momentum.com/event/flow-builder/2028-11-07/
CATEGORIES:companion
ORGANIZER;CN="Hartmut":MAILTO:hartmut@flow-momentum.com
LOCATION:https://meet.google.com/jxc-phrd-hbv
END:VEVENT
BEGIN:VEVENT
DTSTART;TZID=Europe/London:20281108T160000
DTEND;TZID=Europe/London:20281108T173000
DTSTAMP:20260424T100047
CREATED:20241017T223028Z
LAST-MODIFIED:20241017T223028Z
UID:10000468-1857312000-1857317400@my.flow-momentum.com
SUMMARY:Wednesday: 4:00 PM – Case Clinic: Overcome Your Current Challenge
DESCRIPTION:A 90-minute group coaching session to dive deep into individual challenges. We use a collaborative approach\, including peer input and structured guidance\, to co-create solutions. Whether it’s related to cycling\, productivity\, or personal development\, this is the perfect space to address your biggest hurdles and walk away with actionable next steps. Share your progress in the community forum for additional support!
URL:https://my.flow-momentum.com/event/wednesday-400-pm-case-clinic-overcome-your-current-challenge/2028-11-08/
CATEGORIES:companion
ORGANIZER;CN="Hartmut":MAILTO:hartmut@flow-momentum.com
LOCATION:https://meet.google.com/siz-mmen-knm
END:VEVENT
BEGIN:VEVENT
DTSTART;TZID=Europe/London:20281109T070000
DTEND;TZID=Europe/London:20281109T080000
DTSTAMP:20260424T100047
CREATED:20241017T223237Z
LAST-MODIFIED:20241017T223237Z
UID:10000723-1857366000-1857369600@my.flow-momentum.com
SUMMARY:Thursday: 7:00 AM – Momentum Ride: Endurance & Connection
DESCRIPTION:This Zwift group ride focuses on building endurance and sustaining performance throughout the week. Join other FMC participants as we push ourselves and connect through shared goals. This session is designed to keep you moving forward\, both physically and mentally\, with your momentum building throughout the ride.
URL:https://my.flow-momentum.com/event/thursday-700-am-momentum-ride-endurance-connection/2028-11-09/
CATEGORIES:companion
ORGANIZER;CN="Hartmut":MAILTO:hartmut@flow-momentum.com
LOCATION:https://meet.google.com/zwv-ezcz-qjd
END:VEVENT
BEGIN:VEVENT
DTSTART;TZID=Europe/London:20281110T120000
DTEND;TZID=Europe/London:20281110T130000
DTSTAMP:20260424T100047
CREATED:20241017T223415Z
LAST-MODIFIED:20250102T095838Z
UID:10000977-1857470400-1857474000@my.flow-momentum.com
SUMMARY:Join Our Open Q&A Session for Cycling Tips and Life Balance Strategies
DESCRIPTION:Have questions about cycling\, productivity\, or balancing life’s challenges? Bring them to this open-format Q&A session. You’ll get real-time insights and feedback on cycling strategies\, goal-setting\, and personal development from experienced coaches and your peers. This is your chance to get advice and leave with practical tools to improve your overall performance.
URL:https://my.flow-momentum.com/event/friday-1200-am-ask-me-anything-cycle-stronger-live-better/2028-11-10/
CATEGORIES:companion
ORGANIZER;CN="Hartmut":MAILTO:hartmut@flow-momentum.com
LOCATION:https://meet.google.com/nia-zxee-zoq
END:VEVENT
BEGIN:VEVENT
DTSTART;TZID=Europe/Zurich:20281112T080000
DTEND;TZID=Europe/Zurich:20281112T170000
DTSTAMP:20260424T100047
CREATED:20241017T223548Z
LAST-MODIFIED:20241017T223548Z
UID:10001231-1857628800-1857661200@my.flow-momentum.com
SUMMARY:Sunday: 8:00 AM – Sunday Sweet Spot Ride: Find Your Flow
DESCRIPTION:Enjoy a full hour of sweet spot training on Zwift\, designed to balance effort and recovery for maximum flow. This ride is all about building up strength in a way that sets a positive tone for the upcoming week. Whether you’re prepping for a big goal or just enjoying the ride\, this is the perfect start to your Sunday morning. Connect with fellow riders on Discord and push each other toward the finish.
URL:https://my.flow-momentum.com/event/sunday-800-am-sunday-sweet-spot-ride-find-your-flow/2028-11-12/
CATEGORIES:companion
ORGANIZER;CN="Hartmut":MAILTO:hartmut@flow-momentum.com
LOCATION:https://meet.google.com/mxv-vzbd-jrj
END:VEVENT
BEGIN:VEVENT
DTSTART;TZID=Europe/London:20281114T190000
DTEND;TZID=Europe/London:20281114T200000
DTSTAMP:20260424T100047
CREATED:20241017T222754Z
LAST-MODIFIED:20241017T222754Z
UID:10000214-1857841200-1857844800@my.flow-momentum.com
SUMMARY:Tuesday: 7:00 PM – Flow Builder: Team Progress Session
DESCRIPTION:This interactive\, hands-on session focuses on building momentum within the Flow Momentum Collective. Bring your specific goals\, challenges\, and projects to this live problem-solving space. Together\, we’ll use proven team methods like lean startup and continuous improvement principles to work through obstacles and maintain forward progress. This is an ideal opportunity to gain feedback and move closer to your goals.
URL:https://my.flow-momentum.com/event/flow-builder/2028-11-14/
CATEGORIES:companion
ORGANIZER;CN="Hartmut":MAILTO:hartmut@flow-momentum.com
LOCATION:https://meet.google.com/jxc-phrd-hbv
END:VEVENT
BEGIN:VEVENT
DTSTART;TZID=Europe/London:20281115T160000
DTEND;TZID=Europe/London:20281115T173000
DTSTAMP:20260424T100047
CREATED:20241017T223028Z
LAST-MODIFIED:20241017T223028Z
UID:10000469-1857916800-1857922200@my.flow-momentum.com
SUMMARY:Wednesday: 4:00 PM – Case Clinic: Overcome Your Current Challenge
DESCRIPTION:A 90-minute group coaching session to dive deep into individual challenges. We use a collaborative approach\, including peer input and structured guidance\, to co-create solutions. Whether it’s related to cycling\, productivity\, or personal development\, this is the perfect space to address your biggest hurdles and walk away with actionable next steps. Share your progress in the community forum for additional support!
URL:https://my.flow-momentum.com/event/wednesday-400-pm-case-clinic-overcome-your-current-challenge/2028-11-15/
CATEGORIES:companion
ORGANIZER;CN="Hartmut":MAILTO:hartmut@flow-momentum.com
LOCATION:https://meet.google.com/siz-mmen-knm
END:VEVENT
BEGIN:VEVENT
DTSTART;TZID=Europe/London:20281116T070000
DTEND;TZID=Europe/London:20281116T080000
DTSTAMP:20260424T100047
CREATED:20241017T223237Z
LAST-MODIFIED:20241017T223237Z
UID:10000724-1857970800-1857974400@my.flow-momentum.com
SUMMARY:Thursday: 7:00 AM – Momentum Ride: Endurance & Connection
DESCRIPTION:This Zwift group ride focuses on building endurance and sustaining performance throughout the week. Join other FMC participants as we push ourselves and connect through shared goals. This session is designed to keep you moving forward\, both physically and mentally\, with your momentum building throughout the ride.
URL:https://my.flow-momentum.com/event/thursday-700-am-momentum-ride-endurance-connection/2028-11-16/
CATEGORIES:companion
ORGANIZER;CN="Hartmut":MAILTO:hartmut@flow-momentum.com
LOCATION:https://meet.google.com/zwv-ezcz-qjd
END:VEVENT
BEGIN:VEVENT
DTSTART;TZID=Europe/London:20281117T120000
DTEND;TZID=Europe/London:20281117T130000
DTSTAMP:20260424T100047
CREATED:20241017T223415Z
LAST-MODIFIED:20250102T095838Z
UID:10000978-1858075200-1858078800@my.flow-momentum.com
SUMMARY:Join Our Open Q&A Session for Cycling Tips and Life Balance Strategies
DESCRIPTION:Have questions about cycling\, productivity\, or balancing life’s challenges? Bring them to this open-format Q&A session. You’ll get real-time insights and feedback on cycling strategies\, goal-setting\, and personal development from experienced coaches and your peers. This is your chance to get advice and leave with practical tools to improve your overall performance.
URL:https://my.flow-momentum.com/event/friday-1200-am-ask-me-anything-cycle-stronger-live-better/2028-11-17/
CATEGORIES:companion
ORGANIZER;CN="Hartmut":MAILTO:hartmut@flow-momentum.com
LOCATION:https://meet.google.com/nia-zxee-zoq
END:VEVENT
BEGIN:VEVENT
DTSTART;TZID=Europe/Zurich:20281119T080000
DTEND;TZID=Europe/Zurich:20281119T170000
DTSTAMP:20260424T100047
CREATED:20241017T223548Z
LAST-MODIFIED:20241017T223548Z
UID:10001232-1858233600-1858266000@my.flow-momentum.com
SUMMARY:Sunday: 8:00 AM – Sunday Sweet Spot Ride: Find Your Flow
DESCRIPTION:Enjoy a full hour of sweet spot training on Zwift\, designed to balance effort and recovery for maximum flow. This ride is all about building up strength in a way that sets a positive tone for the upcoming week. Whether you’re prepping for a big goal or just enjoying the ride\, this is the perfect start to your Sunday morning. Connect with fellow riders on Discord and push each other toward the finish.
URL:https://my.flow-momentum.com/event/sunday-800-am-sunday-sweet-spot-ride-find-your-flow/2028-11-19/
CATEGORIES:companion
ORGANIZER;CN="Hartmut":MAILTO:hartmut@flow-momentum.com
LOCATION:https://meet.google.com/mxv-vzbd-jrj
END:VEVENT
BEGIN:VEVENT
DTSTART;TZID=Europe/London:20281121T190000
DTEND;TZID=Europe/London:20281121T200000
DTSTAMP:20260424T100047
CREATED:20241017T222754Z
LAST-MODIFIED:20241017T222754Z
UID:10000215-1858446000-1858449600@my.flow-momentum.com
SUMMARY:Tuesday: 7:00 PM – Flow Builder: Team Progress Session
DESCRIPTION:This interactive\, hands-on session focuses on building momentum within the Flow Momentum Collective. Bring your specific goals\, challenges\, and projects to this live problem-solving space. Together\, we’ll use proven team methods like lean startup and continuous improvement principles to work through obstacles and maintain forward progress. This is an ideal opportunity to gain feedback and move closer to your goals.
URL:https://my.flow-momentum.com/event/flow-builder/2028-11-21/
CATEGORIES:companion
ORGANIZER;CN="Hartmut":MAILTO:hartmut@flow-momentum.com
LOCATION:https://meet.google.com/jxc-phrd-hbv
END:VEVENT
BEGIN:VEVENT
DTSTART;TZID=Europe/London:20281122T160000
DTEND;TZID=Europe/London:20281122T173000
DTSTAMP:20260424T100047
CREATED:20241017T223028Z
LAST-MODIFIED:20241017T223028Z
UID:10000470-1858521600-1858527000@my.flow-momentum.com
SUMMARY:Wednesday: 4:00 PM – Case Clinic: Overcome Your Current Challenge
DESCRIPTION:A 90-minute group coaching session to dive deep into individual challenges. We use a collaborative approach\, including peer input and structured guidance\, to co-create solutions. Whether it’s related to cycling\, productivity\, or personal development\, this is the perfect space to address your biggest hurdles and walk away with actionable next steps. Share your progress in the community forum for additional support!
URL:https://my.flow-momentum.com/event/wednesday-400-pm-case-clinic-overcome-your-current-challenge/2028-11-22/
CATEGORIES:companion
ORGANIZER;CN="Hartmut":MAILTO:hartmut@flow-momentum.com
LOCATION:https://meet.google.com/siz-mmen-knm
END:VEVENT
BEGIN:VEVENT
DTSTART;TZID=Europe/London:20281123T070000
DTEND;TZID=Europe/London:20281123T080000
DTSTAMP:20260424T100047
CREATED:20241017T223237Z
LAST-MODIFIED:20241017T223237Z
UID:10000725-1858575600-1858579200@my.flow-momentum.com
SUMMARY:Thursday: 7:00 AM – Momentum Ride: Endurance & Connection
DESCRIPTION:This Zwift group ride focuses on building endurance and sustaining performance throughout the week. Join other FMC participants as we push ourselves and connect through shared goals. This session is designed to keep you moving forward\, both physically and mentally\, with your momentum building throughout the ride.
URL:https://my.flow-momentum.com/event/thursday-700-am-momentum-ride-endurance-connection/2028-11-23/
CATEGORIES:companion
ORGANIZER;CN="Hartmut":MAILTO:hartmut@flow-momentum.com
LOCATION:https://meet.google.com/zwv-ezcz-qjd
END:VEVENT
BEGIN:VEVENT
DTSTART;TZID=Europe/London:20281124T120000
DTEND;TZID=Europe/London:20281124T130000
DTSTAMP:20260424T100047
CREATED:20241017T223415Z
LAST-MODIFIED:20250102T095838Z
UID:10000979-1858680000-1858683600@my.flow-momentum.com
SUMMARY:Join Our Open Q&A Session for Cycling Tips and Life Balance Strategies
DESCRIPTION:Have questions about cycling\, productivity\, or balancing life’s challenges? Bring them to this open-format Q&A session. You’ll get real-time insights and feedback on cycling strategies\, goal-setting\, and personal development from experienced coaches and your peers. This is your chance to get advice and leave with practical tools to improve your overall performance.
URL:https://my.flow-momentum.com/event/friday-1200-am-ask-me-anything-cycle-stronger-live-better/2028-11-24/
CATEGORIES:companion
ORGANIZER;CN="Hartmut":MAILTO:hartmut@flow-momentum.com
LOCATION:https://meet.google.com/nia-zxee-zoq
END:VEVENT
BEGIN:VEVENT
DTSTART;TZID=Europe/Zurich:20281126T080000
DTEND;TZID=Europe/Zurich:20281126T170000
DTSTAMP:20260424T100047
CREATED:20241017T223548Z
LAST-MODIFIED:20241017T223548Z
UID:10001233-1858838400-1858870800@my.flow-momentum.com
SUMMARY:Sunday: 8:00 AM – Sunday Sweet Spot Ride: Find Your Flow
DESCRIPTION:Enjoy a full hour of sweet spot training on Zwift\, designed to balance effort and recovery for maximum flow. This ride is all about building up strength in a way that sets a positive tone for the upcoming week. Whether you’re prepping for a big goal or just enjoying the ride\, this is the perfect start to your Sunday morning. Connect with fellow riders on Discord and push each other toward the finish.
URL:https://my.flow-momentum.com/event/sunday-800-am-sunday-sweet-spot-ride-find-your-flow/2028-11-26/
CATEGORIES:companion
ORGANIZER;CN="Hartmut":MAILTO:hartmut@flow-momentum.com
LOCATION:https://meet.google.com/mxv-vzbd-jrj
END:VEVENT
BEGIN:VEVENT
DTSTART;TZID=Europe/London:20281128T190000
DTEND;TZID=Europe/London:20281128T200000
DTSTAMP:20260424T100047
CREATED:20241017T222754Z
LAST-MODIFIED:20241017T222754Z
UID:10000216-1859050800-1859054400@my.flow-momentum.com
SUMMARY:Tuesday: 7:00 PM – Flow Builder: Team Progress Session
DESCRIPTION:This interactive\, hands-on session focuses on building momentum within the Flow Momentum Collective. Bring your specific goals\, challenges\, and projects to this live problem-solving space. Together\, we’ll use proven team methods like lean startup and continuous improvement principles to work through obstacles and maintain forward progress. This is an ideal opportunity to gain feedback and move closer to your goals.
URL:https://my.flow-momentum.com/event/flow-builder/2028-11-28/
CATEGORIES:companion
ORGANIZER;CN="Hartmut":MAILTO:hartmut@flow-momentum.com
LOCATION:https://meet.google.com/jxc-phrd-hbv
END:VEVENT
BEGIN:VEVENT
DTSTART;TZID=Europe/London:20281129T160000
DTEND;TZID=Europe/London:20281129T173000
DTSTAMP:20260424T100047
CREATED:20241017T223028Z
LAST-MODIFIED:20241017T223028Z
UID:10000471-1859126400-1859131800@my.flow-momentum.com
SUMMARY:Wednesday: 4:00 PM – Case Clinic: Overcome Your Current Challenge
DESCRIPTION:A 90-minute group coaching session to dive deep into individual challenges. We use a collaborative approach\, including peer input and structured guidance\, to co-create solutions. Whether it’s related to cycling\, productivity\, or personal development\, this is the perfect space to address your biggest hurdles and walk away with actionable next steps. Share your progress in the community forum for additional support!
URL:https://my.flow-momentum.com/event/wednesday-400-pm-case-clinic-overcome-your-current-challenge/2028-11-29/
CATEGORIES:companion
ORGANIZER;CN="Hartmut":MAILTO:hartmut@flow-momentum.com
LOCATION:https://meet.google.com/siz-mmen-knm
END:VEVENT
BEGIN:VEVENT
DTSTART;TZID=Europe/London:20281130T070000
DTEND;TZID=Europe/London:20281130T080000
DTSTAMP:20260424T100047
CREATED:20241017T223237Z
LAST-MODIFIED:20241017T223237Z
UID:10000726-1859180400-1859184000@my.flow-momentum.com
SUMMARY:Thursday: 7:00 AM – Momentum Ride: Endurance & Connection
DESCRIPTION:This Zwift group ride focuses on building endurance and sustaining performance throughout the week. Join other FMC participants as we push ourselves and connect through shared goals. This session is designed to keep you moving forward\, both physically and mentally\, with your momentum building throughout the ride.
URL:https://my.flow-momentum.com/event/thursday-700-am-momentum-ride-endurance-connection/2028-11-30/
CATEGORIES:companion
ORGANIZER;CN="Hartmut":MAILTO:hartmut@flow-momentum.com
LOCATION:https://meet.google.com/zwv-ezcz-qjd
END:VEVENT
BEGIN:VEVENT
DTSTART;TZID=Europe/London:20281201T120000
DTEND;TZID=Europe/London:20281201T130000
DTSTAMP:20260424T100047
CREATED:20241017T223415Z
LAST-MODIFIED:20250102T095838Z
UID:10000980-1859284800-1859288400@my.flow-momentum.com
SUMMARY:Join Our Open Q&A Session for Cycling Tips and Life Balance Strategies
DESCRIPTION:Have questions about cycling\, productivity\, or balancing life’s challenges? Bring them to this open-format Q&A session. You’ll get real-time insights and feedback on cycling strategies\, goal-setting\, and personal development from experienced coaches and your peers. This is your chance to get advice and leave with practical tools to improve your overall performance.
URL:https://my.flow-momentum.com/event/friday-1200-am-ask-me-anything-cycle-stronger-live-better/2028-12-01/
CATEGORIES:companion
ORGANIZER;CN="Hartmut":MAILTO:hartmut@flow-momentum.com
LOCATION:https://meet.google.com/nia-zxee-zoq
END:VEVENT
BEGIN:VEVENT
DTSTART;TZID=Europe/Zurich:20281203T080000
DTEND;TZID=Europe/Zurich:20281203T170000
DTSTAMP:20260424T100047
CREATED:20241017T223548Z
LAST-MODIFIED:20241017T223548Z
UID:10001234-1859443200-1859475600@my.flow-momentum.com
SUMMARY:Sunday: 8:00 AM – Sunday Sweet Spot Ride: Find Your Flow
DESCRIPTION:Enjoy a full hour of sweet spot training on Zwift\, designed to balance effort and recovery for maximum flow. This ride is all about building up strength in a way that sets a positive tone for the upcoming week. Whether you’re prepping for a big goal or just enjoying the ride\, this is the perfect start to your Sunday morning. Connect with fellow riders on Discord and push each other toward the finish.
URL:https://my.flow-momentum.com/event/sunday-800-am-sunday-sweet-spot-ride-find-your-flow/2028-12-03/
CATEGORIES:companion
ORGANIZER;CN="Hartmut":MAILTO:hartmut@flow-momentum.com
LOCATION:https://meet.google.com/mxv-vzbd-jrj
END:VEVENT
BEGIN:VEVENT
DTSTART;TZID=Europe/London:20281205T190000
DTEND;TZID=Europe/London:20281205T200000
DTSTAMP:20260424T100047
CREATED:20241017T222754Z
LAST-MODIFIED:20241017T222754Z
UID:10000217-1859655600-1859659200@my.flow-momentum.com
SUMMARY:Tuesday: 7:00 PM – Flow Builder: Team Progress Session
DESCRIPTION:This interactive\, hands-on session focuses on building momentum within the Flow Momentum Collective. Bring your specific goals\, challenges\, and projects to this live problem-solving space. Together\, we’ll use proven team methods like lean startup and continuous improvement principles to work through obstacles and maintain forward progress. This is an ideal opportunity to gain feedback and move closer to your goals.
URL:https://my.flow-momentum.com/event/flow-builder/2028-12-05/
CATEGORIES:companion
ORGANIZER;CN="Hartmut":MAILTO:hartmut@flow-momentum.com
LOCATION:https://meet.google.com/jxc-phrd-hbv
END:VEVENT
BEGIN:VEVENT
DTSTART;TZID=Europe/London:20281206T160000
DTEND;TZID=Europe/London:20281206T173000
DTSTAMP:20260424T100047
CREATED:20241017T223028Z
LAST-MODIFIED:20241017T223028Z
UID:10000472-1859731200-1859736600@my.flow-momentum.com
SUMMARY:Wednesday: 4:00 PM – Case Clinic: Overcome Your Current Challenge
DESCRIPTION:A 90-minute group coaching session to dive deep into individual challenges. We use a collaborative approach\, including peer input and structured guidance\, to co-create solutions. Whether it’s related to cycling\, productivity\, or personal development\, this is the perfect space to address your biggest hurdles and walk away with actionable next steps. Share your progress in the community forum for additional support!
URL:https://my.flow-momentum.com/event/wednesday-400-pm-case-clinic-overcome-your-current-challenge/2028-12-06/
CATEGORIES:companion
ORGANIZER;CN="Hartmut":MAILTO:hartmut@flow-momentum.com
LOCATION:https://meet.google.com/siz-mmen-knm
END:VEVENT
BEGIN:VEVENT
DTSTART;TZID=Europe/London:20281207T070000
DTEND;TZID=Europe/London:20281207T080000
DTSTAMP:20260424T100047
CREATED:20241017T223237Z
LAST-MODIFIED:20241017T223237Z
UID:10000727-1859785200-1859788800@my.flow-momentum.com
SUMMARY:Thursday: 7:00 AM – Momentum Ride: Endurance & Connection
DESCRIPTION:This Zwift group ride focuses on building endurance and sustaining performance throughout the week. Join other FMC participants as we push ourselves and connect through shared goals. This session is designed to keep you moving forward\, both physically and mentally\, with your momentum building throughout the ride.
URL:https://my.flow-momentum.com/event/thursday-700-am-momentum-ride-endurance-connection/2028-12-07/
CATEGORIES:companion
ORGANIZER;CN="Hartmut":MAILTO:hartmut@flow-momentum.com
LOCATION:https://meet.google.com/zwv-ezcz-qjd
END:VEVENT
BEGIN:VEVENT
DTSTART;TZID=Europe/London:20281208T120000
DTEND;TZID=Europe/London:20281208T130000
DTSTAMP:20260424T100047
CREATED:20241017T223415Z
LAST-MODIFIED:20250102T095838Z
UID:10000981-1859889600-1859893200@my.flow-momentum.com
SUMMARY:Join Our Open Q&A Session for Cycling Tips and Life Balance Strategies
DESCRIPTION:Have questions about cycling\, productivity\, or balancing life’s challenges? Bring them to this open-format Q&A session. You’ll get real-time insights and feedback on cycling strategies\, goal-setting\, and personal development from experienced coaches and your peers. This is your chance to get advice and leave with practical tools to improve your overall performance.
URL:https://my.flow-momentum.com/event/friday-1200-am-ask-me-anything-cycle-stronger-live-better/2028-12-08/
CATEGORIES:companion
ORGANIZER;CN="Hartmut":MAILTO:hartmut@flow-momentum.com
LOCATION:https://meet.google.com/nia-zxee-zoq
END:VEVENT
BEGIN:VEVENT
DTSTART;TZID=Europe/Zurich:20281210T080000
DTEND;TZID=Europe/Zurich:20281210T170000
DTSTAMP:20260424T100047
CREATED:20241017T223548Z
LAST-MODIFIED:20241017T223548Z
UID:10001235-1860048000-1860080400@my.flow-momentum.com
SUMMARY:Sunday: 8:00 AM – Sunday Sweet Spot Ride: Find Your Flow
DESCRIPTION:Enjoy a full hour of sweet spot training on Zwift\, designed to balance effort and recovery for maximum flow. This ride is all about building up strength in a way that sets a positive tone for the upcoming week. Whether you’re prepping for a big goal or just enjoying the ride\, this is the perfect start to your Sunday morning. Connect with fellow riders on Discord and push each other toward the finish.
URL:https://my.flow-momentum.com/event/sunday-800-am-sunday-sweet-spot-ride-find-your-flow/2028-12-10/
CATEGORIES:companion
ORGANIZER;CN="Hartmut":MAILTO:hartmut@flow-momentum.com
LOCATION:https://meet.google.com/mxv-vzbd-jrj
END:VEVENT
BEGIN:VEVENT
DTSTART;TZID=Europe/London:20281212T190000
DTEND;TZID=Europe/London:20281212T200000
DTSTAMP:20260424T100047
CREATED:20241017T222754Z
LAST-MODIFIED:20241017T222754Z
UID:10000218-1860260400-1860264000@my.flow-momentum.com
SUMMARY:Tuesday: 7:00 PM – Flow Builder: Team Progress Session
DESCRIPTION:This interactive\, hands-on session focuses on building momentum within the Flow Momentum Collective. Bring your specific goals\, challenges\, and projects to this live problem-solving space. Together\, we’ll use proven team methods like lean startup and continuous improvement principles to work through obstacles and maintain forward progress. This is an ideal opportunity to gain feedback and move closer to your goals.
URL:https://my.flow-momentum.com/event/flow-builder/2028-12-12/
CATEGORIES:companion
ORGANIZER;CN="Hartmut":MAILTO:hartmut@flow-momentum.com
LOCATION:https://meet.google.com/jxc-phrd-hbv
END:VEVENT
BEGIN:VEVENT
DTSTART;TZID=Europe/London:20281213T160000
DTEND;TZID=Europe/London:20281213T173000
DTSTAMP:20260424T100047
CREATED:20241017T223028Z
LAST-MODIFIED:20241017T223028Z
UID:10000473-1860336000-1860341400@my.flow-momentum.com
SUMMARY:Wednesday: 4:00 PM – Case Clinic: Overcome Your Current Challenge
DESCRIPTION:A 90-minute group coaching session to dive deep into individual challenges. We use a collaborative approach\, including peer input and structured guidance\, to co-create solutions. Whether it’s related to cycling\, productivity\, or personal development\, this is the perfect space to address your biggest hurdles and walk away with actionable next steps. Share your progress in the community forum for additional support!
URL:https://my.flow-momentum.com/event/wednesday-400-pm-case-clinic-overcome-your-current-challenge/2028-12-13/
CATEGORIES:companion
ORGANIZER;CN="Hartmut":MAILTO:hartmut@flow-momentum.com
LOCATION:https://meet.google.com/siz-mmen-knm
END:VEVENT
BEGIN:VEVENT
DTSTART;TZID=Europe/London:20281214T070000
DTEND;TZID=Europe/London:20281214T080000
DTSTAMP:20260424T100047
CREATED:20241017T223237Z
LAST-MODIFIED:20241017T223237Z
UID:10000728-1860390000-1860393600@my.flow-momentum.com
SUMMARY:Thursday: 7:00 AM – Momentum Ride: Endurance & Connection
DESCRIPTION:This Zwift group ride focuses on building endurance and sustaining performance throughout the week. Join other FMC participants as we push ourselves and connect through shared goals. This session is designed to keep you moving forward\, both physically and mentally\, with your momentum building throughout the ride.
URL:https://my.flow-momentum.com/event/thursday-700-am-momentum-ride-endurance-connection/2028-12-14/
CATEGORIES:companion
ORGANIZER;CN="Hartmut":MAILTO:hartmut@flow-momentum.com
LOCATION:https://meet.google.com/zwv-ezcz-qjd
END:VEVENT
BEGIN:VEVENT
DTSTART;TZID=Europe/London:20281215T120000
DTEND;TZID=Europe/London:20281215T130000
DTSTAMP:20260424T100047
CREATED:20241017T223415Z
LAST-MODIFIED:20250102T095838Z
UID:10000982-1860494400-1860498000@my.flow-momentum.com
SUMMARY:Join Our Open Q&A Session for Cycling Tips and Life Balance Strategies
DESCRIPTION:Have questions about cycling\, productivity\, or balancing life’s challenges? Bring them to this open-format Q&A session. You’ll get real-time insights and feedback on cycling strategies\, goal-setting\, and personal development from experienced coaches and your peers. This is your chance to get advice and leave with practical tools to improve your overall performance.
URL:https://my.flow-momentum.com/event/friday-1200-am-ask-me-anything-cycle-stronger-live-better/2028-12-15/
CATEGORIES:companion
ORGANIZER;CN="Hartmut":MAILTO:hartmut@flow-momentum.com
LOCATION:https://meet.google.com/nia-zxee-zoq
END:VEVENT
BEGIN:VEVENT
DTSTART;TZID=Europe/Zurich:20281217T080000
DTEND;TZID=Europe/Zurich:20281217T170000
DTSTAMP:20260424T100047
CREATED:20241017T223548Z
LAST-MODIFIED:20241017T223548Z
UID:10001236-1860652800-1860685200@my.flow-momentum.com
SUMMARY:Sunday: 8:00 AM – Sunday Sweet Spot Ride: Find Your Flow
DESCRIPTION:Enjoy a full hour of sweet spot training on Zwift\, designed to balance effort and recovery for maximum flow. This ride is all about building up strength in a way that sets a positive tone for the upcoming week. Whether you’re prepping for a big goal or just enjoying the ride\, this is the perfect start to your Sunday morning. Connect with fellow riders on Discord and push each other toward the finish.
URL:https://my.flow-momentum.com/event/sunday-800-am-sunday-sweet-spot-ride-find-your-flow/2028-12-17/
CATEGORIES:companion
ORGANIZER;CN="Hartmut":MAILTO:hartmut@flow-momentum.com
LOCATION:https://meet.google.com/mxv-vzbd-jrj
END:VEVENT
END:VCALENDAR